Workbook

Sheet 2021
A1: 51239
A2: TÍTULO | D2: NOMBRE CORTO | G2: DESCRIPCIÓN
A3: Inventario de bienes muebles | D3: A121Fr36A_Inventario-de-bienes-muebles | G3: El inventario de bienes muebles que los sujetos obligados utilicen, tengan a su cargo, les hayan sido asignados para el desarrollo de sus funciones, que destinen a un servicio público conforme a la normatividad aplicable, tanto si son propiedad del sujeto obligado como que se encuentren en posesión de éstos, además se registrará tanto el mobiliario y equipo –incluido el de cómputo– como los vehículos y demás bienes.
A4: 1 | B4: 4 | C4: 4 | D4: 2 | E4: 1 | F4: 1 | G4: 1 | H4: 6 | I4: 2 | J4: 4 | K4: 13 | L4: 14
A5: 475093 | B5: 475098 | C5: 475099 | D5: 475094 | E5: 475092 | F5: 475102 | G5: 475103 | H5: 475096 | I5: 475100 | J5: 475095 | K5: 475097 | L5: 475101
A6: Tabla Campos
A7: Ejercicio | B7: Fecha de inicio del periodo que se informa | C7: Fecha de término del periodo que se informa | D7: Descripción del bien | E7: Código de identificación, en su caso | F7: Institución a cargo del bien mueble, en su caso | G7: Número de inventario | H7: Monto unitario del bien | I7: Área(s) responsable(s) que genera(n), posee(n), publica(n) y actualizan la información | J7: Fecha de validación | K7: Fecha de actualización | L7: Nota
A8: 2021 | B8: 44197 | C8: 44286 | D8: televisor LCD de 32" | E8: ='[1]36a_2020'!E8 -> 5211000240 | F8: Fideicomiso Museo del Estanquillo | G8: s/n | H8: 9450 | I8: Coordinación de Operaciones | J8: 46230 | K8: 46231
A9: 2021 | B9: 44197 | C9: 44286 | D9: televisor LCD de 32" | E9: ='[1]36a_2020'!E9 -> 5211000240 | F9: Fideicomiso Museo del Estanquillo | G9: s/n | H9: 9450 | I9: Coordinación de Operaciones | J9: 46230 | K9: 46231
A10: 2021 | B10: 44197 | C10: 44286 | D10: televisor LCD de 32" | E10: ='[1]36a_2020'!E10 -> 5211000240 | F10: Fideicomiso Museo del Estanquillo | G10: s/n | H10: 9450 | I10: Coordinación de Operaciones | J10: 46230 | K10: 46231
A11: 2021 | B11: 44197 | C11: 44286 | D11: televisor LCD de 32" | E11: ='[1]36a_2020'!E11 -> 5211000240 | F11: Fideicomiso Museo del Estanquillo | G11: s/n | H11: 9450 | I11: Coordinación de Operaciones | J11: 46230 | K11: 46231
A12: 2021 | B12: 44197 | C12: 44286 | D12: televisor LCD de 32" | E12: ='[1]36a_2020'!E12 -> 5211000240 | F12: Fideicomiso Museo del Estanquillo | G12: s/n | H12: 9450 | I12: Coordinación de Operaciones | J12: 46230 | K12: 46231
A13: 2021 | B13: 44197 | C13: 44286 | D13: televisor LCD de 32" | E13: ='[1]36a_2020'!E13 -> 5211000240 | F13: Fideicomiso Museo del Estanquillo | G13: s/n | H13: 9450 | I13: Coordinación de Operaciones | J13: 46230 | K13: 46231
A14: 2021 | B14: 44197 | C14: 44286 | D14: televisor LCD de 32" | E14: ='[1]36a_2020'!E14 -> 5211000240 | F14: Fideicomiso Museo del Estanquillo | G14: s/n | H14: 9450 | I14: Coordinación de Operaciones | J14: 46230 | K14: 46231
A15: 2021 | B15: 44197 | C15: 44286 | D15: televisor LCD de 32" | E15: ='[1]36a_2020'!E15 -> 5211000240 | F15: Fideicomiso Museo del Estanquillo | G15: s/n | H15: 9450 | I15: Coordinación de Operaciones | J15: 46230 | K15: 46231
A16: 2021 | B16: 44197 | C16: 44286 | D16: televisor LCD de 46" | E16: ='[1]36a_2020'!E16 -> 5211000240 | F16: Fideicomiso Museo del Estanquillo | G16: s/n | H16: 45810 | I16: Coordinación de Operaciones | J16: 46230 | K16: 46231
A17: 2021 | B17: 44197 | C17: 44286 | D17: reproductor de discos compactos | E17: ='[1]36a_2020'!E17 -> 5211000020 | F17: Fideicomiso Museo del Estanquillo | G17: s/n | H17: 867 | I17: Coordinación de Operaciones | J17: 46230 | K17: 46231
A18: 2021 | B18: 44197 | C18: 44286 | D18: reproductor de discos compactos | E18: ='[1]36a_2020'!E18 -> 5211000020 | F18: Fideicomiso Museo del Estanquillo | G18: s/n | H18: 867 | I18: Coordinación de Operaciones | J18: 46230 | K18: 46231
A19: 2021 | B19: 44197 | C19: 44286 | D19: reproductor de discos compactos | E19: ='[1]36a_2020'!E19 -> 5211000020 | F19: Fideicomiso Museo del Estanquillo | G19: s/n | H19: 867 | I19: Coordinación de Operaciones | J19: 46230 | K19: 46231
... A54: 2021 | B54: 44197 | C54: 44286 | D54: sillas apilables | E54: ='[1]36a_2020'!E54 -> 5111000270 | F54: Fideicomiso Museo del Estanquillo | G54: s/n | H54: 398 | I54: Coordinación de Operaciones | J54: 46230 | K54: 46231
A55: 2021 | B55: 44287 | C55: 44377 | D55: televisor LCD de 32" | E55: ='2021'!E8 -> 5211000240 | F55: Fideicomiso Museo del Estanquillo | G55: s/n | H55: 9450 | I55: Coordinación de Operaciones | J55: 46230 | K55: 46231
A56: 2021 | B56: 44287 | C56: 44377 | D56: televisor LCD de 32" | E56: ='2021'!E9 -> 5211000240 | F56: Fideicomiso Museo del Estanquillo | G56: s/n | H56: 9450 | I56: Coordinación de Operaciones | J56: 46230 | K56: 46231
A57: 2021 | B57: 44287 | C57: 44377 | D57: televisor LCD de 32" | E57: ='2021'!E10 -> 5211000240 | F57: Fideicomiso Museo del Estanquillo | G57: s/n | H57: 9450 | I57: Coordinación de Operaciones | J57: 46230 | K57: 46231
A58: 2021 | B58: 44287 | C58: 44377 | D58: televisor LCD de 32" | E58: ='2021'!E11 -> 5211000240 | F58: Fideicomiso Museo del Estanquillo | G58: s/n | H58: 9450 | I58: Coordinación de Operaciones | J58: 46230 | K58: 46231
A59: 2021 | B59: 44287 | C59: 44377 | D59: televisor LCD de 32" | E59: ='2021'!E12 -> 5211000240 | F59: Fideicomiso Museo del Estanquillo | G59: s/n | H59: 9450 | I59: Coordinación de Operaciones | J59: 46230 | K59: 46231
A60: 2021 | B60: 44287 | C60: 44377 | D60: televisor LCD de 32" | E60: ='2021'!E13 -> 5211000240 | F60: Fideicomiso Museo del Estanquillo | G60: s/n | H60: 9450 | I60: Coordinación de Operaciones | J60: 46230 | K60: 46231
A61: 2021 | B61: 44287 | C61: 44377 | D61: televisor LCD de 32" | E61: ='2021'!E14 -> 5211000240 | F61: Fideicomiso Museo del Estanquillo | G61: s/n | H61: 9450 | I61: Coordinación de Operaciones | J61: 46230 | K61: 46231
A62: 2021 | B62: 44287 | C62: 44377 | D62: televisor LCD de 32" | E62: ='2021'!E15 -> 5211000240 | F62: Fideicomiso Museo del Estanquillo | G62: s/n | H62: 9450 | I62: Coordinación de Operaciones | J62: 46230 | K62: 46231
A63: 2021 | B63: 44287 | C63: 44377 | D63: televisor LCD de 46" | E63: ='2021'!E16 -> 5211000240 | F63: Fideicomiso Museo del Estanquillo | G63: s/n | H63: 45810 | I63: Coordinación de Operaciones | J63: 46230 | K63: 46231
A64: 2021 | B64: 44287 | C64: 44377 | D64: reproductor de discos compactos | E64: ='2021'!E17 -> 5211000020 | F64: Fideicomiso Museo del Estanquillo | G64: s/n | H64: 867 | I64: Coordinación de Operaciones | J64: 46230 | K64: 46231
A65: 2021 | B65: 44287 | C65: 44377 | D65: reproductor de discos compactos | E65: ='2021'!E18 -> 5211000020 | F65: Fideicomiso Museo del Estanquillo | G65: s/n | H65: 867 | I65: Coordinación de Operaciones | J65: 46230 | K65: 46231
A66: 2021 | B66: 44287 | C66: 44377 | D66: reproductor de discos compactos | E66: ='2021'!E19 -> 5211000020 | F66: Fideicomiso Museo del Estanquillo | G66: s/n | H66: 867 | I66: Coordinación de Operaciones | J66: 46230 | K66: 46231
... A101: 2021 | B101: 44287 | C101: 44377 | D101: sillas apilables | E101: ='2021'!E54 -> 5111000270 | F101: Fideicomiso Museo del Estanquillo | G101: s/n | H101: 398 | I101: Coordinación de Operaciones | J101: 46230 | K101: 46231
A102: 2021 | B102: 44378 | C102: 44469 | D102: televisor LCD de 32" | E102: 5211000240 | F102: Fideicomiso Museo del Estanquillo | G102: s/n | H102: 9450 | I102: Coordinación de Operaciones | J102: 46230 | K102: 46231
A103: 2021 | B103: 44378 | C103: 44469 | D103: televisor LCD de 32" | E103: 5211000240 | F103: Fideicomiso Museo del Estanquillo | G103: s/n | H103: 9450 | I103: Coordinación de Operaciones | J103: 46230 | K103: 46231
A104: 2021 | B104: 44378 | C104: 44469 | D104: televisor LCD de 32" | E104: 5211000240 | F104: Fideicomiso Museo del Estanquillo | G104: s/n | H104: 9450 | I104: Coordinación de Operaciones | J104: 46230 | K104: 46231
A105: 2021 | B105: 44378 | C105: 44469 | D105: televisor LCD de 32" | E105: 5211000240 | F105: Fideicomiso Museo del Estanquillo | G105: s/n | H105: 9450 | I105: Coordinación de Operaciones | J105: 46230 | K105: 46231
A106: 2021 | B106: 44378 | C106: 44469 | D106: televisor LCD de 32" | E106: 5211000240 | F106: Fideicomiso Museo del Estanquillo | G106: s/n | H106: 9450 | I106: Coordinación de Operaciones | J106: 46230 | K106: 46231
A107: 2021 | B107: 44378 | C107: 44469 | D107: televisor LCD de 32" | E107: 5211000240 | F107: Fideicomiso Museo del Estanquillo | G107: s/n | H107: 9450 | I107: Coordinación de Operaciones | J107: 46230 | K107: 46231
A108: 2021 | B108: 44378 | C108: 44469 | D108: televisor LCD de 32" | E108: 5211000240 | F108: Fideicomiso Museo del Estanquillo | G108: s/n | H108: 9450 | I108: Coordinación de Operaciones | J108: 46230 | K108: 46231
A109: 2021 | B109: 44378 | C109: 44469 | D109: televisor LCD de 32" | E109: 5211000240 | F109: Fideicomiso Museo del Estanquillo | G109: s/n | H109: 9450 | I109: Coordinación de Operaciones | J109: 46230 | K109: 46231
A110: 2021 | B110: 44378 | C110: 44469 | D110: televisor LCD de 46" | E110: 5211000240 | F110: Fideicomiso Museo del Estanquillo | G110: s/n | H110: 45810 | I110: Coordinación de Operaciones | J110: 46230 | K110: 46231
A111: 2021 | B111: 44378 | C111: 44469 | D111: reproductor de discos compactos | E111: 5211000020 | F111: Fideicomiso Museo del Estanquillo | G111: s/n | H111: 867 | I111: Coordinación de Operaciones | J111: 46230 | K111: 46231
A112: 2021 | B112: 44378 | C112: 44469 | D112: reproductor de discos compactos | E112: 5211000020 | F112: Fideicomiso Museo del Estanquillo | G112: s/n | H112: 867 | I112: Coordinación de Operaciones | J112: 46230 | K112: 46231
A113: 2021 | B113: 44378 | C113: 44469 | D113: reproductor de discos compactos | E113: 5211000020 | F113: Fideicomiso Museo del Estanquillo | G113: s/n | H113: 867 | I113: Coordinación de Operaciones | J113: 46230 | K113: 46231
... A143: 2021 | B143: 44378 | C143: 44469 | D143: enfriador y calentador de agua | E143: 5111000102 | F143: Fideicomiso Museo del Estanquillo | G143: s/n | H143: 2682 | I143: Coordinación de Operaciones | J143: 46230 | K143: 46231
A144: 2021 | B144: 44378 | C144: 44469 | D144: gabinete fregadero | E144: s/n | F144: Fideicomiso Museo del Estanquillo | G144: s/n | H144: 8660 | I144: Coordinación de Operaciones | J144: 46230 | K144: 46231
A145: 2021 | B145: 44378 | C145: 44469 | D145: horno de cocina | E145: 5691000068 | F145: Fideicomiso Museo del Estanquillo | G145: s/n | H145: 2150 | I145: Coordinación de Operaciones | J145: 46230 | K145: 46231
A146: 2021 | B146: 44378 | C146: 44469 | D146: refrigerador | E146: 5121000008 | F146: Fideicomiso Museo del Estanquillo | G146: s/n | H146: 7999 | I146: Coordinación de Operaciones | J146: 46230 | K146: 46231
A147: 2021 | B147: 44378 | C147: 44469 | D147: kit de fotografías | E147: 5131000576 | F147: Fideicomiso Museo del Estanquillo | G147: s/n | H147: 140000 | I147: Coordinación de Operaciones | J147: 46230 | K147: 46231
A148: 2021 | B148: 44378 | C148: 44469 | D148: sillas apilables | E148: 5111000270 | F148: Fideicomiso Museo del Estanquillo | G148: s/n | H148: 398 | I148: Coordinación de Operaciones | J148: 46230 | K148: 46231
A149: 2021 | B149: 44470 | C149: 44561 | D149: televisor LCD de 32" | E149: ='2021'!E102 -> 5211000240 | F149: Fideicomiso Museo del Estanquillo | G149: s/n | H149: 9450 | I149: Coordinación de Operaciones | J149: 46230 | K149: 46231
A150: 2021 | B150: 44470 | C150: 44561 | D150: televisor LCD de 32" | E150: ='2021'!E103 -> 5211000240 | F150: Fideicomiso Museo del Estanquillo | G150: s/n | H150: 9450 | I150: Coordinación de Operaciones | J150: 46230 | K150: 46231
A151: 2021 | B151: 44470 | C151: 44561 | D151: televisor LCD de 32" | E151: ='2021'!E104 -> 5211000240 | F151: Fideicomiso Museo del Estanquillo | G151: s/n | H151: 9450 | I151: Coordinación de Operaciones | J151: 46230 | K151: 46231
A152: 2021 | B152: 44470 | C152: 44561 | D152: televisor LCD de 32" | E152: ='2021'!E105 -> 5211000240 | F152: Fideicomiso Museo del Estanquillo | G152: s/n | H152: 9450 | I152: Coordinación de Operaciones | J152: 46230 | K152: 46231
A153: 2021 | B153: 44470 | C153: 44561 | D153: televisor LCD de 32" | E153: ='2021'!E106 -> 5211000240 | F153: Fideicomiso Museo del Estanquillo | G153: s/n | H153: 9450 | I153: Coordinación de Operaciones | J153: 46230 | K153: 46231
A154: 2021 | B154: 44470 | C154: 44561 | D154: televisor LCD de 32" | E154: ='2021'!E107 -> 5211000240 | F154: Fideicomiso Museo del Estanquillo | G154: s/n | H154: 9450 | I154: Coordinación de Operaciones | J154: 46230 | K154: 46231
A155: 2021 | B155: 44470 | C155: 44561 | D155: televisor LCD de 32" | E155: ='2021'!E108 -> 5211000240 | F155: Fideicomiso Museo del Estanquillo | G155: s/n | H155: 9450 | I155: Coordinación de Operaciones | J155: 46230 | K155: 46231
A156: 2021 | B156: 44470 | C156: 44561 | D156: televisor LCD de 32" | E156: ='2021'!E109 -> 5211000240 | F156: Fideicomiso Museo del Estanquillo | G156: s/n | H156: 9450 | I156: Coordinación de Operaciones | J156: 46230 | K156: 46231
A157: 2021 | B157: 44470 | C157: 44561 | D157: televisor LCD de 46" | E157: ='2021'!E110 -> 5211000240 | F157: Fideicomiso Museo del Estanquillo | G157: s/n | H157: 45810 | I157: Coordinación de Operaciones | J157: 46230 | K157: 46231
A158: 2021 | B158: 44470 | C158: 44561 | D158: reproductor de discos compactos | E158: ='2021'!E111 -> 5211000020 | F158: Fideicomiso Museo del Estanquillo | G158: s/n | H158: 867 | I158: Coordinación de Operaciones | J158: 46230 | K158: 46231
A159: 2021 | B159: 44470 | C159: 44561 | D159: reproductor de discos compactos | E159: ='2021'!E112 -> 5211000020 | F159: Fideicomiso Museo del Estanquillo | G159: s/n | H159: 867 | I159: Coordinación de Operaciones | J159: 46230 | K159: 46231
A160: 2021 | B160: 44470 | C160: 44561 | D160: reproductor de discos compactos | E160: ='2021'!E113 -> 5211000020 | F160: Fideicomiso Museo del Estanquillo | G160: s/n | H160: 867 | I160: Coordinación de Operaciones | J160: 46230 | K160: 46231
... A195: 2021 | B195: 44470 | C195: 44561 | D195: sillas apilables | E195: ='2021'!E148 -> 5111000270 | F195: Fideicomiso Museo del Estanquillo | G195: s/n | H195: 398 | I195: Coordinación de Operaciones | J195: 46230 | K195: 46231
